BEGIN:VCALENDAR
PRODID:-//Microsoft Corporation//Outlook MIMEDIR//EN
VERSION:2.0
METHOD:PUBLISH
BEGIN:VEVENT
DTSTART:20260428T110000
DTEND:20260428T120000
DESCRIPTION:
LOCATION:DALLAS CITY HALL, 6DN CONFERENCE ROOM AND VIDEOCONFERENCE
SUMMARY:Reinvestment Zone (RZ18) Eighteen Board (Maple/Mockingbird)
CATEGORIES:MEETING
END:VEVENT
END:VCALENDAR
