BEGIN:VCALENDAR
PRODID:-//Microsoft Corporation//Outlook MIMEDIR//EN
VERSION:2.0
METHOD:PUBLISH
BEGIN:VEVENT
DTSTART:20260421T110000
DTEND:20260421T120000
DESCRIPTION:
LOCATION:COUNCIL BRIEFING ROOM, 6ES
SUMMARY:Ad Hoc Committee on Administrative Affairs 
CATEGORIES:MEETING
END:VEVENT
END:VCALENDAR
